BEGIN:VCALENDAR
VERSION:2.0
METHOD:PUBLISH
PRODID:-//enovanet//eMagnum//FR
BEGIN:VEVENT
DTSTAMP:20260506T133000
DTSTART:20260506T133000
DTEND:20260506T180000
LOCATION:Champagne Météyer - 39, Rue de l'Europe - 02850 Trélou-sur-Marne
SUMMARY:CHAMPAGNE METEYER
DESCRIPTION:Rencontre avec CHAMPAGNE METEYER \n 
 "Passion Japonaise en Champagne" \n\n 
 Plus d'information sur : https://www.champagne-meteyer.com
UID:evenement74
END:VEVENT
END:VCALENDAR
